BEGIN:VCALENDAR
VERSION:2.0
PRODID:-//IMEP - ECPv6.15.18//NONSGML v1.0//EN
CALSCALE:GREGORIAN
METHOD:PUBLISH
X-ORIGINAL-URL:https://www.imep.pro
X-WR-CALDESC:Évènements pour IMEP
REFRESH-INTERVAL;VALUE=DURATION:PT1H
X-Robots-Tag:noindex
X-PUBLISHED-TTL:PT1H
BEGIN:VTIMEZONE
TZID:Europe/Paris
BEGIN:DAYLIGHT
TZOFFSETFROM:+0100
TZOFFSETTO:+0200
TZNAME:CEST
DTSTART:20250330T010000
END:DAYLIGHT
BEGIN:STANDARD
TZOFFSETFROM:+0200
TZOFFSETTO:+0100
TZNAME:CET
DTSTART:20251026T010000
END:STANDARD
BEGIN:DAYLIGHT
TZOFFSETFROM:+0100
TZOFFSETTO:+0200
TZNAME:CEST
DTSTART:20260329T010000
END:DAYLIGHT
BEGIN:STANDARD
TZOFFSETFROM:+0200
TZOFFSETTO:+0100
TZNAME:CET
DTSTART:20261025T010000
END:STANDARD
BEGIN:DAYLIGHT
TZOFFSETFROM:+0100
TZOFFSETTO:+0200
TZNAME:CEST
DTSTART:20270328T010000
END:DAYLIGHT
BEGIN:STANDARD
TZOFFSETFROM:+0200
TZOFFSETTO:+0100
TZNAME:CET
DTSTART:20271031T010000
END:STANDARD
END:VTIMEZONE
BEGIN:VEVENT
DTSTART;TZID=Europe/Paris:20260506T200000
DTEND;TZID=Europe/Paris:20260506T223000
DTSTAMP:20260421T113314
CREATED:20251014T125329Z
LAST-MODIFIED:20251014T130331Z
UID:260907-1778097600-1778106600@www.imep.pro
SUMMARY:Jam IMEP aux 2 pianos
DESCRIPTION:A partir de 20h. \nSur scène : piano et batterie à disposition\nAvec Bernard Vidal\, guitariste et pédagogue reconnu \nTous niveaux bienvenus\nStandards de jazz\, compositions originales et surprises\nOuvert à toutes et tous\, que vous soyez de l’IMEP ou non
URL:https://www.imep.pro/event/jam-imep-aux-2-pianos-11/
LOCATION:Les 2 pianos
CATEGORIES:Jam
ATTACH;FMTTYPE=image/jpeg:https://www.imep.pro/wordpress/wp-content/uploads/2025/10/b44012d6-867b-42c6-8b9b-394ea6915bf3-1280x720-1-e1760445261725.jpg
END:VEVENT
BEGIN:VEVENT
DTSTART;VALUE=DATE:20260509
DTEND;VALUE=DATE:20260510
DTSTAMP:20260421T113314
CREATED:20251120T152940Z
LAST-MODIFIED:20260114T110004Z
UID:261342-1778284800-1778371199@www.imep.pro
SUMMARY:Audition IMEP
DESCRIPTION:Inscrivez vous à l’audition IMEP pour rejoindre notre école en Cycle Professionnel ou Libre.\nFormulaire d’inscription à l’audition\nComment préparer votre audition ? Pour bien vous préparer et comprendre le processus\, nous vous invitons à consulter toutes les informations sur cette page dédiée. \nVous souhaitez nous rencontrer ? Inscrivez-vous à nos journées portes ouvertes afin de discuter de votre projet musical ! Inscription JPO 
URL:https://www.imep.pro/event/audition-jpo-3/
LOCATION:IMEP Paris College of Music\, 7 rue Emile Dubois\, Paris\, Ile-de-France\, 75014\, France
CATEGORIES:Auditions
ATTACH;FMTTYPE=image/jpeg:https://www.imep.pro/wordpress/wp-content/uploads/2025/11/Auditions-2025.3.jpg
END:VEVENT
BEGIN:VEVENT
DTSTART;TZID=Europe/Paris:20260522T193000
DTEND;TZID=Europe/Paris:20260522T223000
DTSTAMP:20260421T113314
CREATED:20251110T135552Z
LAST-MODIFIED:20251110T135552Z
UID:261218-1779478200-1779489000@www.imep.pro
SUMMARY:Jam session au FIAP Paris
DESCRIPTION:Jam Session au FIAP Paris\nDébut de la jam à 19h30 jusqu’à 22h30.\nOuvert à tous ! Venez nous rejoindre et jouer ! \nHappy hour de 19h30 à 21h. \nGratuit sur inscription : https://www.fiap.paris/evenements/les-jam-du-fiap/
URL:https://www.imep.pro/event/jam-session-au-fiap-paris-7/
LOCATION:FIAP\, 30 rue Cabanis\, Paris\, 75014
CATEGORIES:Jam
ATTACH;FMTTYPE=image/jpeg:https://www.imep.pro/wordpress/wp-content/uploads/2025/10/OIP-e1759414237285.jpg
END:VEVENT
END:VCALENDAR